BEGIN:VCALENDAR
VERSION:2.0
PRODID:-//Valley View Casino &amp; Hotel - ECPv6.15.20//NONSGML v1.0//EN
CALSCALE:GREGORIAN
METHOD:PUBLISH
X-ORIGINAL-URL:https://valleyviewcasino.com/es/
X-WR-CALDESC:Eventos para Valley View Casino &amp; Hotel
REFRESH-INTERVAL;VALUE=DURATION:PT1H
X-Robots-Tag:noindex
X-PUBLISHED-TTL:PT1H
BEGIN:VTIMEZONE
TZID:America/Los_Angeles
BEGIN:DAYLIGHT
TZOFFSETFROM:-0800
TZOFFSETTO:-0700
TZNAME:PDT
DTSTART:20250309T100000
END:DAYLIGHT
BEGIN:STANDARD
TZOFFSETFROM:-0700
TZOFFSETTO:-0800
TZNAME:PST
DTSTART:20251102T090000
END:STANDARD
BEGIN:DAYLIGHT
TZOFFSETFROM:-0800
TZOFFSETTO:-0700
TZNAME:PDT
DTSTART:20260308T100000
END:DAYLIGHT
BEGIN:STANDARD
TZOFFSETFROM:-0700
TZOFFSETTO:-0800
TZNAME:PST
DTSTART:20261101T090000
END:STANDARD
BEGIN:DAYLIGHT
TZOFFSETFROM:-0800
TZOFFSETTO:-0700
TZNAME:PDT
DTSTART:20270314T100000
END:DAYLIGHT
BEGIN:STANDARD
TZOFFSETFROM:-0700
TZOFFSETTO:-0800
TZNAME:PST
DTSTART:20271107T090000
END:STANDARD
END:VTIMEZONE
BEGIN:VEVENT
DTSTART;VALUE=DATE:20260507
DTEND;VALUE=DATE:20260508
DTSTAMP:20260424T021248
CREATED:20250802T012253Z
LAST-MODIFIED:20250802T012253Z
UID:10001838-1778112000-1778198399@valleyviewcasino.com
SUMMARY:Thirsty Thursdays
DESCRIPTION:Thirsty Thursdays\nAcompáñanos en el Valley View Casino & Hotel en nuestra promoción Jueves Sediento\, donde podrás saborear cerveza de barril helada a 5 $\, vinos seleccionados a mano a 6 $ y refrescantes cócteles a 7 $. Disfruta de estos especiales en todo el casino y en cualquiera de nuestros restaurantes o bares.
URL:https://valleyviewcasino.com/es/promotion/thirsty-thursdays/2026-05-07/
LOCATION:Throughout the Casino
ATTACH;FMTTYPE=image/webp:https://valleyviewcasino.com/wp-content/uploads/2025/04/promo-tile-thirstythursdays.jpg.webp
END:VEVENT
BEGIN:VEVENT
DTSTART;TZID=America/Los_Angeles:20260507T100000
DTEND;TZID=America/Los_Angeles:20260507T220000
DTSTAMP:20260424T021248
CREATED:20260420T172217Z
LAST-MODIFIED:20260420T172217Z
UID:10002045-1778148000-1778191200@valleyviewcasino.com
SUMMARY:VIP Loyalty Gift
DESCRIPTION:VIP Loyalty Gift\nComo agradecimiento por tu fidelidad\, los invitados pueden recoger su Regalo de Fidelidad VIP los Jueves y Viernes seleccionados. Acude a cualquiera de nuestros amables miembros del equipo del Club de Jugadores para saber cómo puedes recibir tu regalo mensual gratuito.
URL:https://valleyviewcasino.com/es/promotion/vip-loyalty-gift-3/2026-05-07/
LOCATION:Hotel Event Center
ATTACH;FMTTYPE=image/jpeg:https://valleyviewcasino.com/wp-content/uploads/2025/04/PromotionsThumbnails_500x34019-1.jpg
END:VEVENT
END:VCALENDAR