BEGIN:VCALENDAR
VERSION:2.0
PRODID:-//Valley View Casino &amp; Hotel - ECPv6.15.20//NONSGML v1.0//EN
CALSCALE:GREGORIAN
METHOD:PUBLISH
X-ORIGINAL-URL:https://valleyviewcasino.com
X-WR-CALDESC:Events for Valley View Casino &amp; Hotel
REFRESH-INTERVAL;VALUE=DURATION:PT1H
X-Robots-Tag:noindex
X-PUBLISHED-TTL:PT1H
BEGIN:VTIMEZONE
TZID:America/Los_Angeles
BEGIN:DAYLIGHT
TZOFFSETFROM:-0800
TZOFFSETTO:-0700
TZNAME:PDT
DTSTART:20250309T100000
END:DAYLIGHT
BEGIN:STANDARD
TZOFFSETFROM:-0700
TZOFFSETTO:-0800
TZNAME:PST
DTSTART:20251102T090000
END:STANDARD
BEGIN:DAYLIGHT
TZOFFSETFROM:-0800
TZOFFSETTO:-0700
TZNAME:PDT
DTSTART:20260308T100000
END:DAYLIGHT
BEGIN:STANDARD
TZOFFSETFROM:-0700
TZOFFSETTO:-0800
TZNAME:PST
DTSTART:20261101T090000
END:STANDARD
BEGIN:DAYLIGHT
TZOFFSETFROM:-0800
TZOFFSETTO:-0700
TZNAME:PDT
DTSTART:20270314T100000
END:DAYLIGHT
BEGIN:STANDARD
TZOFFSETFROM:-0700
TZOFFSETTO:-0800
TZNAME:PST
DTSTART:20271107T090000
END:STANDARD
BEGIN:DAYLIGHT
TZOFFSETFROM:-0800
TZOFFSETTO:-0700
TZNAME:PDT
DTSTART:20280312T100000
END:DAYLIGHT
BEGIN:STANDARD
TZOFFSETFROM:-0700
TZOFFSETTO:-0800
TZNAME:PST
DTSTART:20281105T090000
END:STANDARD
END:VTIMEZONE
BEGIN:VEVENT
DTSTART;TZID=America/Los_Angeles:20261119T170000
DTEND;TZID=America/Los_Angeles:20261119T210000
DTSTAMP:20260423T120231
CREATED:20260330T180432Z
LAST-MODIFIED:20260423T173633Z
UID:10002128-1795107600-1795122000@valleyviewcasino.com
SUMMARY:$500\,000 Pick Three Thursdays
DESCRIPTION:$500\,000 Pick Three Thursdays\nJoin us for our $500\,000 Pick Three Thursdays promotion where you could win a huge grand prize. Every hour from 5:00pm – 8:00pm\, five guests will win MOREPLAY®\, and then at 9:00pm\, three guests will each select three envelopes for a chance at $500\,000. So join us at the Main Stage Bar every Thursday from 5:00pm – 9:00pm to win big!
URL:https://valleyviewcasino.com/promotion/500000-pick-three-thursdays/2026-11-19/
LOCATION:Main Stage Bar
ATTACH;FMTTYPE=image/webp:https://valleyviewcasino.com/wp-content/uploads/2025/04/promo-tile-3thursdays.jpg.webp
END:VEVENT
BEGIN:VEVENT
DTSTART;VALUE=DATE:20261126
DTEND;VALUE=DATE:20261127
DTSTAMP:20260423T120231
CREATED:20250802T012253Z
LAST-MODIFIED:20250802T012325Z
UID:10001676-1795651200-1795737599@valleyviewcasino.com
SUMMARY:Thirsty Thursdays
DESCRIPTION:Thirsty Thursdays\nJoin us at Valley View Casino & Hotel for our Thirsty Thursdays promotion where you can sip on $5 ice-cold draft beer\, $6 hand-selected wines and $7 refreshing cocktails. Enjoy these specials throughout the casino and at any of our restaurants or bars.
URL:https://valleyviewcasino.com/promotion/thirsty-thursdays-2/2026-11-26/
LOCATION:Throughout the Casino
ATTACH;FMTTYPE=image/webp:https://valleyviewcasino.com/wp-content/uploads/2025/04/promo-tile-thirstythursdays.jpg.webp
END:VEVENT
BEGIN:VEVENT
DTSTART;TZID=America/Los_Angeles:20261126T170000
DTEND;TZID=America/Los_Angeles:20261126T210000
DTSTAMP:20260423T120231
CREATED:20260330T180432Z
LAST-MODIFIED:20260423T173633Z
UID:10002129-1795712400-1795726800@valleyviewcasino.com
SUMMARY:$500\,000 Pick Three Thursdays
DESCRIPTION:$500\,000 Pick Three Thursdays\nJoin us for our $500\,000 Pick Three Thursdays promotion where you could win a huge grand prize. Every hour from 5:00pm – 8:00pm\, five guests will win MOREPLAY®\, and then at 9:00pm\, three guests will each select three envelopes for a chance at $500\,000. So join us at the Main Stage Bar every Thursday from 5:00pm – 9:00pm to win big!
URL:https://valleyviewcasino.com/promotion/500000-pick-three-thursdays/2026-11-26/
LOCATION:Main Stage Bar
ATTACH;FMTTYPE=image/webp:https://valleyviewcasino.com/wp-content/uploads/2025/04/promo-tile-3thursdays.jpg.webp
END:VEVENT
BEGIN:VEVENT
DTSTART;VALUE=DATE:20261203
DTEND;VALUE=DATE:20261204
DTSTAMP:20260423T120231
CREATED:20250802T012253Z
LAST-MODIFIED:20250802T012325Z
UID:10001677-1796256000-1796342399@valleyviewcasino.com
SUMMARY:Thirsty Thursdays
DESCRIPTION:Thirsty Thursdays\nJoin us at Valley View Casino & Hotel for our Thirsty Thursdays promotion where you can sip on $5 ice-cold draft beer\, $6 hand-selected wines and $7 refreshing cocktails. Enjoy these specials throughout the casino and at any of our restaurants or bars.
URL:https://valleyviewcasino.com/promotion/thirsty-thursdays-2/2026-12-03/
LOCATION:Throughout the Casino
ATTACH;FMTTYPE=image/webp:https://valleyviewcasino.com/wp-content/uploads/2025/04/promo-tile-thirstythursdays.jpg.webp
END:VEVENT
BEGIN:VEVENT
DTSTART;TZID=America/Los_Angeles:20261203T170000
DTEND;TZID=America/Los_Angeles:20261203T210000
DTSTAMP:20260423T120231
CREATED:20260330T180432Z
LAST-MODIFIED:20260423T173633Z
UID:10002130-1796317200-1796331600@valleyviewcasino.com
SUMMARY:$500\,000 Pick Three Thursdays
DESCRIPTION:$500\,000 Pick Three Thursdays\nJoin us for our $500\,000 Pick Three Thursdays promotion where you could win a huge grand prize. Every hour from 5:00pm – 8:00pm\, five guests will win MOREPLAY®\, and then at 9:00pm\, three guests will each select three envelopes for a chance at $500\,000. So join us at the Main Stage Bar every Thursday from 5:00pm – 9:00pm to win big!
URL:https://valleyviewcasino.com/promotion/500000-pick-three-thursdays/2026-12-03/
LOCATION:Main Stage Bar
ATTACH;FMTTYPE=image/webp:https://valleyviewcasino.com/wp-content/uploads/2025/04/promo-tile-3thursdays.jpg.webp
END:VEVENT
BEGIN:VEVENT
DTSTART;VALUE=DATE:20261210
DTEND;VALUE=DATE:20261211
DTSTAMP:20260423T120231
CREATED:20250802T012253Z
LAST-MODIFIED:20250802T012325Z
UID:10001678-1796860800-1796947199@valleyviewcasino.com
SUMMARY:Thirsty Thursdays
DESCRIPTION:Thirsty Thursdays\nJoin us at Valley View Casino & Hotel for our Thirsty Thursdays promotion where you can sip on $5 ice-cold draft beer\, $6 hand-selected wines and $7 refreshing cocktails. Enjoy these specials throughout the casino and at any of our restaurants or bars.
URL:https://valleyviewcasino.com/promotion/thirsty-thursdays-2/2026-12-10/
LOCATION:Throughout the Casino
ATTACH;FMTTYPE=image/webp:https://valleyviewcasino.com/wp-content/uploads/2025/04/promo-tile-thirstythursdays.jpg.webp
END:VEVENT
BEGIN:VEVENT
DTSTART;TZID=America/Los_Angeles:20261210T170000
DTEND;TZID=America/Los_Angeles:20261210T210000
DTSTAMP:20260423T120231
CREATED:20260330T180432Z
LAST-MODIFIED:20260423T173633Z
UID:10002131-1796922000-1796936400@valleyviewcasino.com
SUMMARY:$500\,000 Pick Three Thursdays
DESCRIPTION:$500\,000 Pick Three Thursdays\nJoin us for our $500\,000 Pick Three Thursdays promotion where you could win a huge grand prize. Every hour from 5:00pm – 8:00pm\, five guests will win MOREPLAY®\, and then at 9:00pm\, three guests will each select three envelopes for a chance at $500\,000. So join us at the Main Stage Bar every Thursday from 5:00pm – 9:00pm to win big!
URL:https://valleyviewcasino.com/promotion/500000-pick-three-thursdays/2026-12-10/
LOCATION:Main Stage Bar
ATTACH;FMTTYPE=image/webp:https://valleyviewcasino.com/wp-content/uploads/2025/04/promo-tile-3thursdays.jpg.webp
END:VEVENT
BEGIN:VEVENT
DTSTART;VALUE=DATE:20261217
DTEND;VALUE=DATE:20261218
DTSTAMP:20260423T120231
CREATED:20250802T012253Z
LAST-MODIFIED:20250802T012325Z
UID:10001679-1797465600-1797551999@valleyviewcasino.com
SUMMARY:Thirsty Thursdays
DESCRIPTION:Thirsty Thursdays\nJoin us at Valley View Casino & Hotel for our Thirsty Thursdays promotion where you can sip on $5 ice-cold draft beer\, $6 hand-selected wines and $7 refreshing cocktails. Enjoy these specials throughout the casino and at any of our restaurants or bars.
URL:https://valleyviewcasino.com/promotion/thirsty-thursdays-2/2026-12-17/
LOCATION:Throughout the Casino
ATTACH;FMTTYPE=image/webp:https://valleyviewcasino.com/wp-content/uploads/2025/04/promo-tile-thirstythursdays.jpg.webp
END:VEVENT
BEGIN:VEVENT
DTSTART;TZID=America/Los_Angeles:20261217T170000
DTEND;TZID=America/Los_Angeles:20261217T210000
DTSTAMP:20260423T120231
CREATED:20260330T180432Z
LAST-MODIFIED:20260423T173633Z
UID:10002132-1797526800-1797541200@valleyviewcasino.com
SUMMARY:$500\,000 Pick Three Thursdays
DESCRIPTION:$500\,000 Pick Three Thursdays\nJoin us for our $500\,000 Pick Three Thursdays promotion where you could win a huge grand prize. Every hour from 5:00pm – 8:00pm\, five guests will win MOREPLAY®\, and then at 9:00pm\, three guests will each select three envelopes for a chance at $500\,000. So join us at the Main Stage Bar every Thursday from 5:00pm – 9:00pm to win big!
URL:https://valleyviewcasino.com/promotion/500000-pick-three-thursdays/2026-12-17/
LOCATION:Main Stage Bar
ATTACH;FMTTYPE=image/webp:https://valleyviewcasino.com/wp-content/uploads/2025/04/promo-tile-3thursdays.jpg.webp
END:VEVENT
BEGIN:VEVENT
DTSTART;VALUE=DATE:20261224
DTEND;VALUE=DATE:20261225
DTSTAMP:20260423T120231
CREATED:20250802T012253Z
LAST-MODIFIED:20250802T012325Z
UID:10001680-1798070400-1798156799@valleyviewcasino.com
SUMMARY:Thirsty Thursdays
DESCRIPTION:Thirsty Thursdays\nJoin us at Valley View Casino & Hotel for our Thirsty Thursdays promotion where you can sip on $5 ice-cold draft beer\, $6 hand-selected wines and $7 refreshing cocktails. Enjoy these specials throughout the casino and at any of our restaurants or bars.
URL:https://valleyviewcasino.com/promotion/thirsty-thursdays-2/2026-12-24/
LOCATION:Throughout the Casino
ATTACH;FMTTYPE=image/webp:https://valleyviewcasino.com/wp-content/uploads/2025/04/promo-tile-thirstythursdays.jpg.webp
END:VEVENT
BEGIN:VEVENT
DTSTART;TZID=America/Los_Angeles:20261224T170000
DTEND;TZID=America/Los_Angeles:20261224T210000
DTSTAMP:20260423T120231
CREATED:20260330T180432Z
LAST-MODIFIED:20260423T173633Z
UID:10002133-1798131600-1798146000@valleyviewcasino.com
SUMMARY:$500\,000 Pick Three Thursdays
DESCRIPTION:$500\,000 Pick Three Thursdays\nJoin us for our $500\,000 Pick Three Thursdays promotion where you could win a huge grand prize. Every hour from 5:00pm – 8:00pm\, five guests will win MOREPLAY®\, and then at 9:00pm\, three guests will each select three envelopes for a chance at $500\,000. So join us at the Main Stage Bar every Thursday from 5:00pm – 9:00pm to win big!
URL:https://valleyviewcasino.com/promotion/500000-pick-three-thursdays/2026-12-24/
LOCATION:Main Stage Bar
ATTACH;FMTTYPE=image/webp:https://valleyviewcasino.com/wp-content/uploads/2025/04/promo-tile-3thursdays.jpg.webp
END:VEVENT
BEGIN:VEVENT
DTSTART;VALUE=DATE:20261231
DTEND;VALUE=DATE:20270101
DTSTAMP:20260423T120231
CREATED:20250802T012253Z
LAST-MODIFIED:20250802T012325Z
UID:10001681-1798675200-1798761599@valleyviewcasino.com
SUMMARY:Thirsty Thursdays
DESCRIPTION:Thirsty Thursdays\nJoin us at Valley View Casino & Hotel for our Thirsty Thursdays promotion where you can sip on $5 ice-cold draft beer\, $6 hand-selected wines and $7 refreshing cocktails. Enjoy these specials throughout the casino and at any of our restaurants or bars.
URL:https://valleyviewcasino.com/promotion/thirsty-thursdays-2/2026-12-31/
LOCATION:Throughout the Casino
ATTACH;FMTTYPE=image/webp:https://valleyviewcasino.com/wp-content/uploads/2025/04/promo-tile-thirstythursdays.jpg.webp
END:VEVENT
BEGIN:VEVENT
DTSTART;TZID=America/Los_Angeles:20261231T170000
DTEND;TZID=America/Los_Angeles:20261231T210000
DTSTAMP:20260423T120231
CREATED:20260330T180432Z
LAST-MODIFIED:20260423T173633Z
UID:10002134-1798736400-1798750800@valleyviewcasino.com
SUMMARY:$500\,000 Pick Three Thursdays
DESCRIPTION:$500\,000 Pick Three Thursdays\nJoin us for our $500\,000 Pick Three Thursdays promotion where you could win a huge grand prize. Every hour from 5:00pm – 8:00pm\, five guests will win MOREPLAY®\, and then at 9:00pm\, three guests will each select three envelopes for a chance at $500\,000. So join us at the Main Stage Bar every Thursday from 5:00pm – 9:00pm to win big!
URL:https://valleyviewcasino.com/promotion/500000-pick-three-thursdays/2026-12-31/
LOCATION:Main Stage Bar
ATTACH;FMTTYPE=image/webp:https://valleyviewcasino.com/wp-content/uploads/2025/04/promo-tile-3thursdays.jpg.webp
END:VEVENT
BEGIN:VEVENT
DTSTART;VALUE=DATE:20270107
DTEND;VALUE=DATE:20270108
DTSTAMP:20260423T120231
CREATED:20250802T012253Z
LAST-MODIFIED:20250802T012325Z
UID:10001682-1799280000-1799366399@valleyviewcasino.com
SUMMARY:Thirsty Thursdays
DESCRIPTION:Thirsty Thursdays\nJoin us at Valley View Casino & Hotel for our Thirsty Thursdays promotion where you can sip on $5 ice-cold draft beer\, $6 hand-selected wines and $7 refreshing cocktails. Enjoy these specials throughout the casino and at any of our restaurants or bars.
URL:https://valleyviewcasino.com/promotion/thirsty-thursdays-2/2027-01-07/
LOCATION:Throughout the Casino
ATTACH;FMTTYPE=image/webp:https://valleyviewcasino.com/wp-content/uploads/2025/04/promo-tile-thirstythursdays.jpg.webp
END:VEVENT
BEGIN:VEVENT
DTSTART;VALUE=DATE:20270114
DTEND;VALUE=DATE:20270115
DTSTAMP:20260423T120231
CREATED:20250802T012253Z
LAST-MODIFIED:20250802T012325Z
UID:10001683-1799884800-1799971199@valleyviewcasino.com
SUMMARY:Thirsty Thursdays
DESCRIPTION:Thirsty Thursdays\nJoin us at Valley View Casino & Hotel for our Thirsty Thursdays promotion where you can sip on $5 ice-cold draft beer\, $6 hand-selected wines and $7 refreshing cocktails. Enjoy these specials throughout the casino and at any of our restaurants or bars.
URL:https://valleyviewcasino.com/promotion/thirsty-thursdays-2/2027-01-14/
LOCATION:Throughout the Casino
ATTACH;FMTTYPE=image/webp:https://valleyviewcasino.com/wp-content/uploads/2025/04/promo-tile-thirstythursdays.jpg.webp
END:VEVENT
BEGIN:VEVENT
DTSTART;VALUE=DATE:20270121
DTEND;VALUE=DATE:20270122
DTSTAMP:20260423T120231
CREATED:20250802T012253Z
LAST-MODIFIED:20250802T012325Z
UID:10001684-1800489600-1800575999@valleyviewcasino.com
SUMMARY:Thirsty Thursdays
DESCRIPTION:Thirsty Thursdays\nJoin us at Valley View Casino & Hotel for our Thirsty Thursdays promotion where you can sip on $5 ice-cold draft beer\, $6 hand-selected wines and $7 refreshing cocktails. Enjoy these specials throughout the casino and at any of our restaurants or bars.
URL:https://valleyviewcasino.com/promotion/thirsty-thursdays-2/2027-01-21/
LOCATION:Throughout the Casino
ATTACH;FMTTYPE=image/webp:https://valleyviewcasino.com/wp-content/uploads/2025/04/promo-tile-thirstythursdays.jpg.webp
END:VEVENT
BEGIN:VEVENT
DTSTART;VALUE=DATE:20270128
DTEND;VALUE=DATE:20270129
DTSTAMP:20260423T120231
CREATED:20250802T012253Z
LAST-MODIFIED:20250802T012325Z
UID:10001685-1801094400-1801180799@valleyviewcasino.com
SUMMARY:Thirsty Thursdays
DESCRIPTION:Thirsty Thursdays\nJoin us at Valley View Casino & Hotel for our Thirsty Thursdays promotion where you can sip on $5 ice-cold draft beer\, $6 hand-selected wines and $7 refreshing cocktails. Enjoy these specials throughout the casino and at any of our restaurants or bars.
URL:https://valleyviewcasino.com/promotion/thirsty-thursdays-2/2027-01-28/
LOCATION:Throughout the Casino
ATTACH;FMTTYPE=image/webp:https://valleyviewcasino.com/wp-content/uploads/2025/04/promo-tile-thirstythursdays.jpg.webp
END:VEVENT
BEGIN:VEVENT
DTSTART;VALUE=DATE:20270204
DTEND;VALUE=DATE:20270205
DTSTAMP:20260423T120231
CREATED:20250802T012253Z
LAST-MODIFIED:20250802T012325Z
UID:10001686-1801699200-1801785599@valleyviewcasino.com
SUMMARY:Thirsty Thursdays
DESCRIPTION:Thirsty Thursdays\nJoin us at Valley View Casino & Hotel for our Thirsty Thursdays promotion where you can sip on $5 ice-cold draft beer\, $6 hand-selected wines and $7 refreshing cocktails. Enjoy these specials throughout the casino and at any of our restaurants or bars.
URL:https://valleyviewcasino.com/promotion/thirsty-thursdays-2/2027-02-04/
LOCATION:Throughout the Casino
ATTACH;FMTTYPE=image/webp:https://valleyviewcasino.com/wp-content/uploads/2025/04/promo-tile-thirstythursdays.jpg.webp
END:VEVENT
BEGIN:VEVENT
DTSTART;VALUE=DATE:20270211
DTEND;VALUE=DATE:20270212
DTSTAMP:20260423T120231
CREATED:20250802T012253Z
LAST-MODIFIED:20250802T012325Z
UID:10001701-1802304000-1802390399@valleyviewcasino.com
SUMMARY:Thirsty Thursdays
DESCRIPTION:Thirsty Thursdays\nJoin us at Valley View Casino & Hotel for our Thirsty Thursdays promotion where you can sip on $5 ice-cold draft beer\, $6 hand-selected wines and $7 refreshing cocktails. Enjoy these specials throughout the casino and at any of our restaurants or bars.
URL:https://valleyviewcasino.com/promotion/thirsty-thursdays-2/2027-02-11/
LOCATION:Throughout the Casino
ATTACH;FMTTYPE=image/webp:https://valleyviewcasino.com/wp-content/uploads/2025/04/promo-tile-thirstythursdays.jpg.webp
END:VEVENT
BEGIN:VEVENT
DTSTART;VALUE=DATE:20270218
DTEND;VALUE=DATE:20270219
DTSTAMP:20260423T120231
CREATED:20250802T012253Z
LAST-MODIFIED:20250802T012325Z
UID:10001706-1802908800-1802995199@valleyviewcasino.com
SUMMARY:Thirsty Thursdays
DESCRIPTION:Thirsty Thursdays\nJoin us at Valley View Casino & Hotel for our Thirsty Thursdays promotion where you can sip on $5 ice-cold draft beer\, $6 hand-selected wines and $7 refreshing cocktails. Enjoy these specials throughout the casino and at any of our restaurants or bars.
URL:https://valleyviewcasino.com/promotion/thirsty-thursdays-2/2027-02-18/
LOCATION:Throughout the Casino
ATTACH;FMTTYPE=image/webp:https://valleyviewcasino.com/wp-content/uploads/2025/04/promo-tile-thirstythursdays.jpg.webp
END:VEVENT
BEGIN:VEVENT
DTSTART;VALUE=DATE:20270225
DTEND;VALUE=DATE:20270226
DTSTAMP:20260423T120231
CREATED:20250802T012253Z
LAST-MODIFIED:20250802T012325Z
UID:10001724-1803513600-1803599999@valleyviewcasino.com
SUMMARY:Thirsty Thursdays
DESCRIPTION:Thirsty Thursdays\nJoin us at Valley View Casino & Hotel for our Thirsty Thursdays promotion where you can sip on $5 ice-cold draft beer\, $6 hand-selected wines and $7 refreshing cocktails. Enjoy these specials throughout the casino and at any of our restaurants or bars.
URL:https://valleyviewcasino.com/promotion/thirsty-thursdays-2/2027-02-25/
LOCATION:Throughout the Casino
ATTACH;FMTTYPE=image/webp:https://valleyviewcasino.com/wp-content/uploads/2025/04/promo-tile-thirstythursdays.jpg.webp
END:VEVENT
BEGIN:VEVENT
DTSTART;VALUE=DATE:20270304
DTEND;VALUE=DATE:20270305
DTSTAMP:20260423T120231
CREATED:20250802T012253Z
LAST-MODIFIED:20250802T012325Z
UID:10001725-1804118400-1804204799@valleyviewcasino.com
SUMMARY:Thirsty Thursdays
DESCRIPTION:Thirsty Thursdays\nJoin us at Valley View Casino & Hotel for our Thirsty Thursdays promotion where you can sip on $5 ice-cold draft beer\, $6 hand-selected wines and $7 refreshing cocktails. Enjoy these specials throughout the casino and at any of our restaurants or bars.
URL:https://valleyviewcasino.com/promotion/thirsty-thursdays-2/2027-03-04/
LOCATION:Throughout the Casino
ATTACH;FMTTYPE=image/webp:https://valleyviewcasino.com/wp-content/uploads/2025/04/promo-tile-thirstythursdays.jpg.webp
END:VEVENT
BEGIN:VEVENT
DTSTART;VALUE=DATE:20270311
DTEND;VALUE=DATE:20270312
DTSTAMP:20260423T120231
CREATED:20250802T012253Z
LAST-MODIFIED:20250802T012325Z
UID:10001797-1804723200-1804809599@valleyviewcasino.com
SUMMARY:Thirsty Thursdays
DESCRIPTION:Thirsty Thursdays\nJoin us at Valley View Casino & Hotel for our Thirsty Thursdays promotion where you can sip on $5 ice-cold draft beer\, $6 hand-selected wines and $7 refreshing cocktails. Enjoy these specials throughout the casino and at any of our restaurants or bars.
URL:https://valleyviewcasino.com/promotion/thirsty-thursdays-2/2027-03-11/
LOCATION:Throughout the Casino
ATTACH;FMTTYPE=image/webp:https://valleyviewcasino.com/wp-content/uploads/2025/04/promo-tile-thirstythursdays.jpg.webp
END:VEVENT
BEGIN:VEVENT
DTSTART;VALUE=DATE:20270318
DTEND;VALUE=DATE:20270319
DTSTAMP:20260423T120231
CREATED:20250802T012253Z
LAST-MODIFIED:20250802T012325Z
UID:10001892-1805328000-1805414399@valleyviewcasino.com
SUMMARY:Thirsty Thursdays
DESCRIPTION:Thirsty Thursdays\nJoin us at Valley View Casino & Hotel for our Thirsty Thursdays promotion where you can sip on $5 ice-cold draft beer\, $6 hand-selected wines and $7 refreshing cocktails. Enjoy these specials throughout the casino and at any of our restaurants or bars.
URL:https://valleyviewcasino.com/promotion/thirsty-thursdays-2/2027-03-18/
LOCATION:Throughout the Casino
ATTACH;FMTTYPE=image/webp:https://valleyviewcasino.com/wp-content/uploads/2025/04/promo-tile-thirstythursdays.jpg.webp
END:VEVENT
BEGIN:VEVENT
DTSTART;VALUE=DATE:20270325
DTEND;VALUE=DATE:20270326
DTSTAMP:20260423T120231
CREATED:20250802T012253Z
LAST-MODIFIED:20250802T012325Z
UID:10001911-1805932800-1806019199@valleyviewcasino.com
SUMMARY:Thirsty Thursdays
DESCRIPTION:Thirsty Thursdays\nJoin us at Valley View Casino & Hotel for our Thirsty Thursdays promotion where you can sip on $5 ice-cold draft beer\, $6 hand-selected wines and $7 refreshing cocktails. Enjoy these specials throughout the casino and at any of our restaurants or bars.
URL:https://valleyviewcasino.com/promotion/thirsty-thursdays-2/2027-03-25/
LOCATION:Throughout the Casino
ATTACH;FMTTYPE=image/webp:https://valleyviewcasino.com/wp-content/uploads/2025/04/promo-tile-thirstythursdays.jpg.webp
END:VEVENT
BEGIN:VEVENT
DTSTART;VALUE=DATE:20270401
DTEND;VALUE=DATE:20270402
DTSTAMP:20260423T120231
CREATED:20250802T012253Z
LAST-MODIFIED:20250802T012325Z
UID:10001996-1806537600-1806623999@valleyviewcasino.com
SUMMARY:Thirsty Thursdays
DESCRIPTION:Thirsty Thursdays\nJoin us at Valley View Casino & Hotel for our Thirsty Thursdays promotion where you can sip on $5 ice-cold draft beer\, $6 hand-selected wines and $7 refreshing cocktails. Enjoy these specials throughout the casino and at any of our restaurants or bars.
URL:https://valleyviewcasino.com/promotion/thirsty-thursdays-2/2027-04-01/
LOCATION:Throughout the Casino
ATTACH;FMTTYPE=image/webp:https://valleyviewcasino.com/wp-content/uploads/2025/04/promo-tile-thirstythursdays.jpg.webp
END:VEVENT
BEGIN:VEVENT
DTSTART;VALUE=DATE:20270408
DTEND;VALUE=DATE:20270409
DTSTAMP:20260423T120231
CREATED:20250802T012253Z
LAST-MODIFIED:20250802T012325Z
UID:10002010-1807142400-1807228799@valleyviewcasino.com
SUMMARY:Thirsty Thursdays
DESCRIPTION:Thirsty Thursdays\nJoin us at Valley View Casino & Hotel for our Thirsty Thursdays promotion where you can sip on $5 ice-cold draft beer\, $6 hand-selected wines and $7 refreshing cocktails. Enjoy these specials throughout the casino and at any of our restaurants or bars.
URL:https://valleyviewcasino.com/promotion/thirsty-thursdays-2/2027-04-08/
LOCATION:Throughout the Casino
ATTACH;FMTTYPE=image/webp:https://valleyviewcasino.com/wp-content/uploads/2025/04/promo-tile-thirstythursdays.jpg.webp
END:VEVENT
BEGIN:VEVENT
DTSTART;VALUE=DATE:20270415
DTEND;VALUE=DATE:20270416
DTSTAMP:20260423T120231
CREATED:20250802T012253Z
LAST-MODIFIED:20250802T012325Z
UID:10002025-1807747200-1807833599@valleyviewcasino.com
SUMMARY:Thirsty Thursdays
DESCRIPTION:Thirsty Thursdays\nJoin us at Valley View Casino & Hotel for our Thirsty Thursdays promotion where you can sip on $5 ice-cold draft beer\, $6 hand-selected wines and $7 refreshing cocktails. Enjoy these specials throughout the casino and at any of our restaurants or bars.
URL:https://valleyviewcasino.com/promotion/thirsty-thursdays-2/2027-04-15/
LOCATION:Throughout the Casino
ATTACH;FMTTYPE=image/webp:https://valleyviewcasino.com/wp-content/uploads/2025/04/promo-tile-thirstythursdays.jpg.webp
END:VEVENT
END:VCALENDAR